Eagleview collected aerial imager in May 2025.<\/SPAN><\/P><\/DIV>",
"serviceItemId": "2e149dac7a2d46688a077d9d00e185c7",
"name": "Clay_2025Imagery",
"description": "Eagleview collected aerial imager in May 2025.<\/SPAN><\/P><\/DIV>",
"extent": {
"xmin": 463583.8725027256,
"ymin": 98208.07804678567,
"xmax": 635183.8725027256,
"ymax": 290928.07804678567,
"spatialReference": {
"wkid": 103701,
"latestWkid": 103701,
"vcsWkid": 105703,
"latestVcsWkid": 6360
}
},
"initialExtent": {
"xmin": 463583.8725027256,
"ymin": 98208.07804678567,
"xmax": 635183.8725027256,
"ymax": 290928.07804678567,
"spatialReference": {
"wkid": 103701,
"latestWkid": 103701,
"vcsWkid": 105703,
"latestVcsWkid": 6360
}
},
"fullExtent": {
"xmin": 463583.8725027256,
"ymin": 98208.07804678567,
"xmax": 635183.8725027256,
"ymax": 290928.07804678567,
"spatialReference": {
"wkid": 103701,
"latestWkid": 103701,
"vcsWkid": 105703,
"latestVcsWkid": 6360
}
},
"sortableFields": "",
"heightModelInfo": {
"heightModel": "gravity_related_height",
"vertCRS": "NAVD88_height_(ftUS)",
"heightUnit": "us-foot"
},
"bandCount": 3,
"pixelType": "U8",
"minValues": [],
"maxValues": [],
"meanValues": [],
"stdvValues": [],
"serviceProperties": "Center<\/MosaicMethod>First<\/MosaicOperator>true<\/SortAscending><\/LockImageID><\/TileOrderField>0<\/TileOrderBase>0.000000<\/AvgImageSpacingX>0.000000<\/AvgImageSpacingY>0.0<\/ViewPointX>0.0<\/ViewPointY>0.0<\/ViewPointDefShiftX>0.0<\/ViewPointDefShiftY>None<\/CompressionMethod>75<\/CompressionQuality>0.010000<\/CompressionTolerance>Bilinear<\/SamplingMethod><\/ImageServiceProperties><\/ImageServer>",
"allowedFields": "",
"hasMultidimensions": false,
"pixelSizeX": 0.5,
"pixelSizeY": 0.5,
"meanPixelSize": 0.15240030480060962,
"datasetFormat": "SDR",
"uncompressedSize": 396849024000,
"blockWidth": 128,
"blockHeight": 128,
"compressionType": "LZ77",
"bandNames": [
"Band_1",
"Band_2",
"Band_3"
],
"allowCopy": true,
"allowAnalysis": true,
"itemAccess": false,
"inspectionCapabilities": "",
"minPixelSize": 0,
"maxPixelSize": 0,
"copyrightText": "Eagleview",
"serviceDataType": "esriImageServiceDataTypeProcessed",
"serviceSourceType": "esriImageServiceSourceTypeDataset",
"objectIdField": "",
"fields": [],
"capabilities": "Image,Metadata,Mensuration",
"defaultMosaicMethod": "Center",
"allowedMosaicMethods": "",
"sortField": "",
"sortValue": null,
"sortAscending": true,
"mosaicOperator": "First",
"defaultCompressionQuality": 75,
"defaultResamplingMethod": "Bilinear",
"maxImageHeight": 4100,
"maxImageWidth": 15000,
"allowRasterFunction": true,
"rasterFunctionInfos": [
{
"name": "None",
"description": "",
"help": ""
}
],
"rasterTypeInfos": [
{
"name": "Raster Dataset",
"description": "Supports all ArcGIS Raster Datasets",
"help": ""
}
],
"mensurationCapabilities": "Basic",
"hasHistograms": false,
"hasColormap": false,
"hasRasterAttributeTable": false,
"minScale": 0,
"maxScale": 0,
"exportTilesAllowed": false,
"supportsStatistics": false,
"supportsAdvancedQueries": false,
"editFieldsInfo": null,
"ownershipBasedAccessControlForRasters": null,
"allowComputeTiePoints": false,
"useStandardizedQueries": true,
"advancedQueryCapabilities": {
"useStandardizedQueries": true,
"supportsStatistics": false,
"supportsOrderBy": false,
"supportsDistinct": false,
"supportsPagination": false
},
"spatialReference": {
"wkid": 103701,
"latestWkid": 103701,
"vcsWkid": 105703,
"latestVcsWkid": 6360
}
}