View In:
ArcGIS JavaScript
ArcGIS Online Map Viewer
ArcGIS Earth
Service Description: Eagleview collected aerial imager in May 2025.
Name: Clay_2025Imagery
Description: Eagleview collected aerial imager in May 2025.
Single Fused Map Cache: false
Extent:
XMin: 463583.8725027256
YMin: 98208.07804678567
XMax: 635183.8725027256
YMax: 290928.07804678567
Spatial Reference: 103701
(103701)
VCSWkid(105703)
LatestVCSWkid(6360)
Initial Extent:
XMin: 463583.8725027256
YMin: 98208.07804678567
XMax: 635183.8725027256
YMax: 290928.07804678567
Spatial Reference: 103701
(103701)
VCSWkid(105703)
LatestVCSWkid(6360)
Full Extent:
XMin: 463583.8725027256
YMin: 98208.07804678567
XMax: 635183.8725027256
YMax: 290928.07804678567
Spatial Reference: 103701
(103701)
VCSWkid(105703)
LatestVCSWkid(6360)
Pixel Size X: 0.5
Pixel Size Y: 0.5
Band Count: 3
Pixel Type: U8
RasterFunction Infos: {"rasterFunctionInfos": [{
"name": "None",
"description": "",
"help": ""
}]}
Mensuration Capabilities: Basic
Inspection Capabilities:
Has Histograms: false
Has Colormap: false
Has Multi Dimensions : false
Rendering Rule:
Min Scale: 0
Max Scale: 0
Copyright Text: Eagleview
Service Data Type: esriImageServiceDataTypeProcessed
Min Values: N/A
Max Values: N/A
Mean Values: N/A
Standard Deviation Values: N/A
Object ID Field:
Fields:
None
Default Mosaic Method: Center
Allowed Mosaic Methods:
SortField:
SortValue: null
Mosaic Operator: First
Default Compression Quality: 75
Default Resampling Method: Bilinear
Max Record Count: null
Max Image Height: 4100
Max Image Width: 15000
Max Download Image Count: null
Max Mosaic Image Count: null
Allow Raster Function: true
Allow Copy: true
Allow Analysis: true
Allow Compute TiePoints: false
Supports Statistics: false
Supports Advanced Queries: false
Use StandardizedQueries: true
Raster Type Infos:
Name: Raster Dataset
Description: Supports all ArcGIS Raster Datasets
Help:
Has Raster Attribute Table: false
Edit Fields Info: null
Ownership Based AccessControl For Rasters: null
Child Resources:
Info
Statistics
Key Properties
Legend
Raster Function Infos
Supported Operations:
Export Image
Identify
Measure
Compute Histograms
Compute Statistics Histograms
Get Samples
Compute Class Statistics
Query Boundary
Compute Pixel Location
Compute Angles
Validate
Project